BEGIN:VCALENDAR
VERSION:2.0
PRODID:DPCALENDAR
CALSCALE:GREGORIAN
X-WR-TIMEZONE:UTC
BEGIN:VEVENT
DTSTART;VALUE=DATE:20250414
DTEND;VALUE=DATE:20250426
UID:103bb84f1909542aa30fa3ad5a9499a5
SUMMARY:Osterferien
DTSTAMP:20260422T092719Z
DESCRIPTION:
X-ALT-DESC;FMTTYPE=text/html:
X-ACCESS:1
X-MODIFIED:20260422T092719Z
X-HITS:0
X-URL:https://www.google.com/calendar/event?eid=MW1ib2JlNmVpYWFtNmUzdnZsb2RxaTc1aDcgbXVsdmFueS5ia0Bt
X-COLOR:
END:VEVENT
END:VCALENDAR