BEGIN:VCALENDAR
VERSION:2.0
PRODID:DPCALENDAR
CALSCALE:GREGORIAN
X-WR-TIMEZONE:UTC
BEGIN:VEVENT
DTSTART;VALUE=DATE:20200203
DTEND;VALUE=DATE:20200222
UID:6c945b9e02095fc8fd5a65e9774fe03f
SUMMARY:Schülerbetriebspraktikum AVV2
DTSTAMP:20260420T104037Z
DESCRIPTION:
X-ALT-DESC;FMTTYPE=text/html:
X-ACCESS:1
X-MODIFIED:20260420T104037Z
X-HITS:0
X-URL:https://www.google.com/calendar/event?eid=MW9jZnZsc25tdDFvZGp2cDRibXJ1bmE2NGggbXVsdmFueS5ia0Bt
X-COLOR:
END:VEVENT
END:VCALENDAR