BEGIN:VCALENDAR
VERSION:2.0
PRODID:DPCALENDAR
CALSCALE:GREGORIAN
X-WR-TIMEZONE:UTC
BEGIN:VEVENT
DTSTART;VALUE=DATE:20241210
DTEND;VALUE=DATE:20241212
UID:a8d3a74ca52eadf63f5e42b47098d6b1
SUMMARY:KMK-Prüfungen B1, B2 Englisch
DTSTAMP:20260422T091108Z
DESCRIPTION:
X-ALT-DESC;FMTTYPE=text/html:
X-ACCESS:1
X-MODIFIED:20260422T091108Z
X-HITS:0
X-URL:https://www.google.com/calendar/event?eid=MmM4ZGRlcjlrdXRmMWx1Mm8zMGo5ZDlya3YgbXVsdmFueS5ia0Bt
X-COLOR:
END:VEVENT
END:VCALENDAR