BEGIN:VCALENDAR
VERSION:2.0
PRODID:DPCALENDAR
CALSCALE:GREGORIAN
X-WR-TIMEZONE:UTC
BEGIN:VEVENT
DTSTART;VALUE=DATE:20260504
DTEND;VALUE=DATE:20260505
UID:0a0623f32bd143d647d73a42618acbf3
SUMMARY:Informationsveranstaltung der Fachschule für Wirtschaft um 18:00 Uhr in Raum W306
DTSTAMP:20260424T124726Z
DESCRIPTION:
X-ALT-DESC;FMTTYPE=text/html:
X-ACCESS:1
X-MODIFIED:20260424T124726Z
X-HITS:0
X-URL:https://www.google.com/calendar/event?eid=M2N1ZjU0dXQzaGZjY3A3ZGRscTdydjJudDIgbXVsdmFueS5ia0Bt
X-COLOR:
END:VEVENT
END:VCALENDAR