BEGIN:VCALENDAR
VERSION:2.0
PRODID:DPCALENDAR
CALSCALE:GREGORIAN
X-WR-TIMEZONE:UTC
BEGIN:VEVENT
DTSTART;VALUE=DATE:20200401
DTEND;VALUE=DATE:20200402
UID:8d9258c4ebe718e585b04b5f15b5f707
SUMMARY:Schriftl. Abschlussprüfungen der ZFA
DTSTAMP:20260424T112614Z
DESCRIPTION:
X-ALT-DESC;FMTTYPE=text/html:
X-ACCESS:1
X-MODIFIED:20260424T112614Z
X-HITS:0
X-URL:https://www.google.com/calendar/event?eid=NThuamFpZDIyN2pncWhzYmt2ZmhpanR0bzUgbXVsdmFueS5ia0Bt
X-COLOR:
END:VEVENT
END:VCALENDAR